BEGIN:VCALENDAR
VERSION:2.0
PRODID:-//Daniel Stowe Conservancy - ECPv6.15.20//NONSGML v1.0//EN
CALSCALE:GREGORIAN
METHOD:PUBLISH
X-WR-CALNAME:Daniel Stowe Conservancy
X-ORIGINAL-URL:https://danielstoweconservancy.org
X-WR-CALDESC:Events for Daniel Stowe Conservancy
REFRESH-INTERVAL;VALUE=DURATION:PT1H
X-Robots-Tag:noindex
X-PUBLISHED-TTL:PT1H
BEGIN:VTIMEZONE
TZID:America/New_York
BEGIN:DAYLIGHT
TZOFFSETFROM:-0500
TZOFFSETTO:-0400
TZNAME:EDT
DTSTART:20250309T070000
END:DAYLIGHT
BEGIN:STANDARD
TZOFFSETFROM:-0400
TZOFFSETTO:-0500
TZNAME:EST
DTSTART:20251102T060000
END:STANDARD
BEGIN:DAYLIGHT
TZOFFSETFROM:-0500
TZOFFSETTO:-0400
TZNAME:EDT
DTSTART:20260308T070000
END:DAYLIGHT
BEGIN:STANDARD
TZOFFSETFROM:-0400
TZOFFSETTO:-0500
TZNAME:EST
DTSTART:20261101T060000
END:STANDARD
BEGIN:DAYLIGHT
TZOFFSETFROM:-0500
TZOFFSETTO:-0400
TZNAME:EDT
DTSTART:20270314T070000
END:DAYLIGHT
BEGIN:STANDARD
TZOFFSETFROM:-0400
TZOFFSETTO:-0500
TZNAME:EST
DTSTART:20271107T060000
END:STANDARD
END:VTIMEZONE
BEGIN:VEVENT
DTSTART;TZID=America/New_York:20260510T100000
DTEND;TZID=America/New_York:20260510T150000
DTSTAMP:20260423T045356
CREATED:20260421T162546Z
LAST-MODIFIED:20260421T163141Z
UID:10002286-1778407200-1778425200@danielstoweconservancy.org
SUMMARY:Mother's Day at Stowe
DESCRIPTION:Sunday\, May 10 | 10 a.m. – 3 p.m. | The Gardens | Garden Admission or Membership* \nJoin us this Mother’s Day\, Sunday\, May 10 for a joyful afternoon surrounded by nature! \nWe request that you pre-reserve your admission tickets to ensure space and smoother check-in for all. As our thanks for spending your day with us\, all moms receive a special Mother’s Day Discount of 30% off in all our retail spaces!  \nLove grows at Stowe – and that’s why the first 500 moms will receive a FREE starter bloom to nestle beautifully into your home garden\, while supplies last! The first 500 moms to check in at the front desk will receive a ticket they may exchange for the small potted plant in our Big Leaf Cafe + Shop. Add a pollinator-friendly pop of color to your yard\, and bring a bit of Stowe home! \nOther programming for the day includes: \n🛍️ A local vendor market on our Four Seasons Lawn featuring artisan goods\, jewelry\, treats\, flowers and more. \n🎶 Live music throughout the day \n🎨 A special Mother’s Day card craft for the whole family inside The Great Hall \n🖼️ A Natural View Art Show inside the Garden Pavilion \nGet Tickets  \n*Members may attend for free. Log in to your Member Account when pre-registering and your discount of 100% off will apply automatically. \nGarden Admission for non-members is as follows: \nAdult: $16.95 \nSenior (60+): $14.95 \nChild (2-12): $9.95 \nUnder 2: Free \n 
URL:https://danielstoweconservancy.org/event/mothers-day-at-stowe/
CATEGORIES:Events,Featured
ATTACH;FMTTYPE=image/jpeg:https://danielstoweconservancy.org/wp-content/uploads/2026/03/film6-18807-e1776789910904.jpg
END:VEVENT
BEGIN:VEVENT
DTSTART;TZID=America/New_York:20260510T133000
DTEND;TZID=America/New_York:20260510T143000
DTSTAMP:20260423T045356
CREATED:20260203T181326Z
LAST-MODIFIED:20260416T172824Z
UID:10002087-1778419800-1778423400@danielstoweconservancy.org
SUMMARY:Free Guided Docent Tour
DESCRIPTION:Join us every Sunday at 1:30 p.m. in the Garden Pavilion April-September for a free guided docent tour! \nOne of our expert docent volunteers will lead you through a guided tour of the garden\, covering Stowe’s history\, habitats\, plants\, gardens and more. \nThis is a completely free tour and no pre-registration is necessary. Just meet us in the Garden Pavilion lobby at 1:30 p.m. on Sundays! \nTour capacity is 20 people. Ages 5+ recommended. Please note that non-members will need to pay Garden Pavilion admission to attend. \nThere will be no guided docent tours on Mother’s Day\, Memorial Day Weekend or Father’s Day. 
URL:https://danielstoweconservancy.org/event/free-guided-docent-tour-3/2026-05-10/
CATEGORIES:Events,Featured
ATTACH;FMTTYPE=image/jpeg:https://danielstoweconservancy.org/wp-content/uploads/2025/10/DSBGBANNER.jpg
END:VEVENT
END:VCALENDAR