BEGIN:VCALENDAR
VERSION:2.0
PRODID:-//Daniel Stowe Conservancy - ECPv6.15.20//NONSGML v1.0//EN
CALSCALE:GREGORIAN
METHOD:PUBLISH
X-ORIGINAL-URL:https://danielstoweconservancy.org
X-WR-CALDESC:Events for Daniel Stowe Conservancy
REFRESH-INTERVAL;VALUE=DURATION:PT1H
X-Robots-Tag:noindex
X-PUBLISHED-TTL:PT1H
BEGIN:VTIMEZONE
TZID:America/New_York
BEGIN:DAYLIGHT
TZOFFSETFROM:-0500
TZOFFSETTO:-0400
TZNAME:EDT
DTSTART:20240310T070000
END:DAYLIGHT
BEGIN:STANDARD
TZOFFSETFROM:-0400
TZOFFSETTO:-0500
TZNAME:EST
DTSTART:20241103T060000
END:STANDARD
BEGIN:DAYLIGHT
TZOFFSETFROM:-0500
TZOFFSETTO:-0400
TZNAME:EDT
DTSTART:20250309T070000
END:DAYLIGHT
BEGIN:STANDARD
TZOFFSETFROM:-0400
TZOFFSETTO:-0500
TZNAME:EST
DTSTART:20251102T060000
END:STANDARD
BEGIN:DAYLIGHT
TZOFFSETFROM:-0500
TZOFFSETTO:-0400
TZNAME:EDT
DTSTART:20260308T070000
END:DAYLIGHT
BEGIN:STANDARD
TZOFFSETFROM:-0400
TZOFFSETTO:-0500
TZNAME:EST
DTSTART:20261101T060000
END:STANDARD
END:VTIMEZONE
BEGIN:VEVENT
DTSTART;TZID=America/New_York:20251128T170000
DTEND;TZID=America/New_York:20251128T220000
DTSTAMP:20260425T063043
CREATED:20251002T231345Z
LAST-MODIFIED:20251002T231345Z
UID:10001883-1764349200-1764367200@danielstoweconservancy.org
SUMMARY:Holidays at the Garden
DESCRIPTION:Friday\, November 28 | 5-10 p.m. | The Gardens at Stowe | Pricing Varies* \nStep into a sparkling wonderland where millions of lights glisten\, fountains dance in festive rhythm and holiday cheer fills every Garden path. Bring family and friends to gather around a glowing outdoor fire to warm up as you treat yourself to irresistible holiday bites\, sip on a warm drink that melts away the winter chill and browse Big Leaf Café for one-of-a-kind gifts that make the season shine. Don’t miss a photo in front of the dazzling Orchid Tree – this radiant centerpiece just outside the Great Hall is the perfect spot for capturing memories that last all year. Your 2025 holiday adventure at the Garden is waiting! \nGet Tickets \n\n*Holiday Ticket FAQ\nHolidays at the Garden offers regular Holiday ticketing Friday – Sunday\, and Value Night ticketing Monday – Thursday. Regular Holiday tickets are nonrefundable\nFlex Tickets allow for flexible rescheduling to any open date of Holidays at the Garden\, from November 28 – December 27. From the sniffles to rainy weather\, Flex Tickets provide you with ticket insurance for the unexpected. \nMembers receive 15% off Holidays at the Garden tickets! Be sure to log in with your membership-associated email address to see the discount in your cart.\n\nTickets can be purchased online or at the door until 9 p.m.
URL:https://danielstoweconservancy.org/event/holidays-at-the-garden/
CATEGORIES:Events,Featured
ATTACH;FMTTYPE=image/jpeg:https://danielstoweconservancy.org/wp-content/uploads/2025/09/RadiantSD-1-36.jpg
END:VEVENT
END:VCALENDAR